BEGIN:VCALENDAR
VERSION:2.0
PRODID:-//K94.5 - ECPv4.6.26//NONSGML v1.0//EN
CALSCALE:GREGORIAN
METHOD:PUBLISH
X-WR-CALNAME:K94.5
X-ORIGINAL-URL:https://k945.ca
X-WR-CALDESC:Events for K94.5
BEGIN:VEVENT
DTSTART;VALUE=DATE:20160820
DTEND;VALUE=DATE:20160821
DTSTAMP:20260421T152051
CREATED:20160812T191244Z
LAST-MODIFIED:20160812T191244Z
UID:220-1471651200-1471737599@k945.ca
SUMMARY:17th Annual United Way Beach Volleyball Tournament
DESCRIPTION:\nWhere: Parlee Beach \nWhen: 2016-08-20 \nThe 17th Annual United Way Beach Volleyball Tournament will be on Wednesday\, August 20th\, at Parlee Beach in Shediac. For more information or to register your team(s) contact Larry by e-mail (llane@asurion.com) or call 386-9217. \nRegistration deadline is August 10th. \n
URL:https://k945.ca/event/17th-annual-united-way-beach-volleyball-tournament/
CATEGORIES:Community
END:VEVENT
END:VCALENDAR