BEGIN:VCALENDAR
VERSION:2.0
PRODID:-//K94.5 - ECPv4.6.26//NONSGML v1.0//EN
CALSCALE:GREGORIAN
METHOD:PUBLISH
X-WR-CALNAME:K94.5
X-ORIGINAL-URL:https://k945.ca
X-WR-CALDESC:Events for K94.5
BEGIN:VEVENT
DTSTART;TZID=America/Halifax:20260614T140000
DTEND;TZID=America/Halifax:20260614T170000
DTSTAMP:20260424T112541
CREATED:20251208T105912Z
LAST-MODIFIED:20251208T110320Z
UID:22302-1781445600-1781456400@k945.ca
SUMMARY:Monster Trucks Are Back in Moncton!
DESCRIPTION:The Monster trucks are back in Moncton!\nSpectacular show featuring 5 monster trucks\, including Tour champion Overkill Evolution.Also freestyle motocross with a backflip contest\, lawnmower races and more!Fun and excitement for the whole family.\nBuy your VIP pit pass to meet the drivers and see the monster trucks from closer at the Pit Party before the show.\nDoors and Pit Party at 12:30pmShow at 2:00pm\n
URL:https://k945.ca/event/20065/
CATEGORIES:Community,Entertainment,Family Events,For Kids
ATTACH;FMTTYPE=image/jpeg:https://k945.ca/wp-content/uploads/sites/7/2025/12/Mosnter-Truck.jpg
END:VEVENT
END:VCALENDAR