BEGIN:VCALENDAR
VERSION:2.0
PRODID:-//K94.5 - ECPv4.6.26//NONSGML v1.0//EN
CALSCALE:GREGORIAN
METHOD:PUBLISH
X-WR-CALNAME:K94.5
X-ORIGINAL-URL:https://k945.ca
X-WR-CALDESC:Events for K94.5
BEGIN:VEVENT
DTSTART;TZID=America/Halifax:20250503T100000
DTEND;TZID=America/Halifax:20250503T150000
DTSTAMP:20260423T112459
CREATED:20250414T112526Z
LAST-MODIFIED:20250414T112536Z
UID:21474-1746266400-1746284400@k945.ca
SUMMARY:2nd Annual Moncton Miniature and Doll Show & Sale
DESCRIPTION:Come check out the 2nd Annual Moncton Miniature and Doll Show & Sale at The Dan Bohan Family Centre!\nWith dealers from New Brunswick\, Nova Scotia & Quebec.Miniatures and Dolls of ALL KINDS!Doll Houses\, Doll Clothing Handcrafted and Commercial MiniaturesFamily Friendly\, Wheel Chair AccessibleFree Parking\nAdmission: Adults $3; Children under 10 FREE\n
URL:https://k945.ca/event/2nd-annual-moncton-miniature-and-doll-show-sale/
CATEGORIES:Community,Family Events,For Kids
ATTACH;FMTTYPE=image/jpeg:https://k945.ca/wp-content/uploads/sites/7/2025/04/Doll-Sale.jpg
END:VEVENT
END:VCALENDAR