BEGIN:VCALENDAR
VERSION:2.0
PRODID:-//K94.5 - ECPv4.6.26//NONSGML v1.0//EN
CALSCALE:GREGORIAN
METHOD:PUBLISH
X-WR-CALNAME:K94.5
X-ORIGINAL-URL:https://k945.ca
X-WR-CALDESC:Events for K94.5
BEGIN:VEVENT
DTSTART;TZID=America/Halifax:20161201T080000
DTEND;TZID=America/Halifax:20161224T170000
DTSTAMP:20260423T100751
CREATED:20161130T192913Z
LAST-MODIFIED:20161205T142743Z
UID:2713-1480579200-1482598800@k945.ca
SUMMARY:30 Days of Community Caring Campaign
DESCRIPTION:Food Alimentaire Inc. kicked off their annual “30 days of Community Caring Campaign”. It runs from November 24th– December 24th and they will be collecting food donations from the following events: \n\nGinger Bread House at Delta Hotel (Donations can be dropped off over the 30 day period)\nMoncton Wildcats home game (Be a fan- bring a can) Dec. 3rd\nThe Metrotones Christmas concert Dec. 9th\nSue Stultz Turkey Drive (turkeys can be dropped off at the Moncton fire station from Nov. 30-Dec. 9)\nDavid Miles Singing for Supper\, Dec. 16th from 11:30-1:00 @ CF Champlain\nN.B. Police Association Charity Hockey Game\, Dec. 16th at the J. Louis Levesque Arena\nAnglephone East Fill the Bus campaign\nLoblaw Holiday Food Drive (Moncton Superstores will be taking donations of food from Dec. 2-24th)\nChristmas Food Box Program (Monetary donations accepted at Omista Credit Unions)\nChristmas Eve Community Churches (Participating area churches will be taking up a special collection on Christmas Eve)\n\n
URL:https://k945.ca/event/30-days-of-community-caring-campaign/
END:VEVENT
END:VCALENDAR