BEGIN:VCALENDAR
VERSION:2.0
PRODID:-//K94.5 - ECPv4.6.26//NONSGML v1.0//EN
CALSCALE:GREGORIAN
METHOD:PUBLISH
X-WR-CALNAME:K94.5
X-ORIGINAL-URL:https://k945.ca
X-WR-CALDESC:Events for K94.5
BEGIN:VEVENT
DTSTART;TZID=America/Halifax:20170511T183000
DTEND;TZID=America/Halifax:20170511T213000
DTSTAMP:20260421T061632
CREATED:20170317T120345Z
LAST-MODIFIED:20170317T120345Z
UID:3616-1494527400-1494538200@k945.ca
SUMMARY:Abandoned Cat Rescue Diamond Dinner
DESCRIPTION:The Abandoned Cat Rescue is holding a Diamond Dinner on Thursday\, May 11th at Legends Restaurant at the Moncton Coliseum. Tickets are $50 and include a buffet dinner\, silent auction\, 50/50 draw\, fashion show and a draw for a beautiful diamond ring! All proceeds will go to the spay and neuter program. For further info and tickets\, please call 386-7630. \n
URL:https://k945.ca/event/abandoned-cat-rescue-diamond-dinner/
END:VEVENT
END:VCALENDAR