BEGIN:VCALENDAR
VERSION:2.0
PRODID:-//K94.5 - ECPv4.6.26//NONSGML v1.0//EN
CALSCALE:GREGORIAN
METHOD:PUBLISH
X-WR-CALNAME:K94.5
X-ORIGINAL-URL:https://k945.ca
X-WR-CALDESC:Events for K94.5
BEGIN:VEVENT
DTSTART;TZID=UTC+0:20160817T120000
DTEND;TZID=UTC+0:20160817T130000
DTSTAMP:20260424T100730
CREATED:20160812T190349Z
LAST-MODIFIED:20160812T190349Z
UID:213-1471435200-1471438800@k945.ca
SUMMARY:Adult Cooking Class
DESCRIPTION:Where: Riverview Superstore \nWhen: 12 – 1PM\, 2016-08-17 \nThere will be an adult cooking class on August 17th from 12 until 1pm at Riverview Superstore. Register in-store or online; the cost is $10 and receive a $10 gift card in class. \n
URL:https://k945.ca/event/adult-cooking-class/
CATEGORIES:Community
END:VEVENT
END:VCALENDAR