BEGIN:VCALENDAR
VERSION:2.0
PRODID:-//K94.5 - ECPv4.6.26//NONSGML v1.0//EN
CALSCALE:GREGORIAN
METHOD:PUBLISH
X-WR-CALNAME:K94.5
X-ORIGINAL-URL:https://k945.ca
X-WR-CALDESC:Events for K94.5
BEGIN:VEVENT
DTSTART;TZID=America/Halifax:20260821T080000
DTEND;TZID=America/Halifax:20260822T230000
DTSTAMP:20260421T231156
CREATED:20260417T113919Z
LAST-MODIFIED:20260417T114215Z
UID:22870-1787299200-1787439600@k945.ca
SUMMARY:African Festival 2026
DESCRIPTION: \n \n
URL:https://k945.ca/event/african-festival-2026/
ATTACH;FMTTYPE=image/jpeg:https://k945.ca/wp-content/uploads/sites/7/2026/04/593755048_122156324450643350_7508249144494323295_n.jpg
END:VEVENT
END:VCALENDAR