BEGIN:VCALENDAR
VERSION:2.0
PRODID:-//K94.5 - ECPv4.6.26//NONSGML v1.0//EN
CALSCALE:GREGORIAN
METHOD:PUBLISH
X-WR-CALNAME:K94.5
X-ORIGINAL-URL:https://k945.ca
X-WR-CALDESC:Events for K94.5
BEGIN:VEVENT
DTSTART;TZID=America/Halifax:20170121T070000
DTEND;TZID=America/Halifax:20170121T100000
DTSTAMP:20260425T004251
CREATED:20170103T132945Z
LAST-MODIFIED:20170103T133337Z
UID:2819-1484982000-1484992800@k945.ca
SUMMARY:All you can eat pancake breakfast
DESCRIPTION:The Salisbury Lions Club will be having an all you can eat pancake breakfast on Saturday\, January 21st from 7-10am at the Lions Club\, 63 Peter St. The menu consists of pancakes\, sausages\, pure maple syrup\, donuts\, muffins\, coffee\, tea and juice. Cost is $7 for adults\, $3 for children ages 6-10 and free for pre-school. All proceeds for community work. \n
URL:https://k945.ca/event/all-you-can-eat-pancake-breakfast-3/
END:VEVENT
END:VCALENDAR