BEGIN:VCALENDAR
VERSION:2.0
PRODID:-//K94.5 - ECPv4.6.26//NONSGML v1.0//EN
CALSCALE:GREGORIAN
METHOD:PUBLISH
X-WR-CALNAME:K94.5
X-ORIGINAL-URL:https://k945.ca
X-WR-CALDESC:Events for K94.5
BEGIN:VEVENT
DTSTART;TZID=America/Halifax:20260509T190000
DTEND;TZID=America/Halifax:20260509T190000
DTSTAMP:20260423T095814
CREATED:20260325T103721Z
LAST-MODIFIED:20260325T103721Z
UID:22641-1778353200-1778353200@k945.ca
SUMMARY:ALT CTRL & The Ultimate 90's Experience
DESCRIPTION:\n\n\n\n\nHoly Whale Beer Hall and Garden\n\n\n\n\n\n\n\n\nWelcome to your Supergroup Therapy Class.\n\nALT CTRL is a band consisting of Jeremy Taggart (formerly of Our Lady Peace)\, Patrick Pentland (Sloan)\, up-and-coming frontman\, Andre Pettipas and a rotating cast of world class players.\nThey bring the nostalgia and MUSIC of the 90’s greatest hits to life.\nCatch them live on the East Coast for the first time this May!\n\n\n
URL:https://k945.ca/event/alt-ctrl-the-ultimate-90s-experience/
ATTACH;FMTTYPE=image/jpeg:https://k945.ca/wp-content/uploads/sites/7/2026/03/643519859_1294772042468179_4391835845959271376_n.jpg
END:VEVENT
END:VCALENDAR