BEGIN:VCALENDAR
VERSION:2.0
PRODID:-//K94.5 - ECPv4.6.26//NONSGML v1.0//EN
CALSCALE:GREGORIAN
METHOD:PUBLISH
X-WR-CALNAME:K94.5
X-ORIGINAL-URL:https://k945.ca
X-WR-CALDESC:Events for K94.5
BEGIN:VEVENT
DTSTART;TZID=America/Halifax:20181103T110000
DTEND;TZID=America/Halifax:20181103T140000
DTSTAMP:20260423T112946
CREATED:20181017T165927Z
LAST-MODIFIED:20181017T165927Z
UID:8404-1541242800-1541253600@k945.ca
SUMMARY:Bazaar and Luncheon
DESCRIPTION:St. John’s UCW Bazaar and Luncheon will be held on Saturday\, November 3rd from 11am-2pm at 75 Alma St. Cost is $8 for the luncheon which will be served from 11:30am-1:30pm. It includes your choice of corn chowder\, chili or chicken soup plus roll & beverage. There will also be crafts\, baking\, new-to-you treasures\, jewelry & much more! Come out for a fun filled day! \n
URL:https://k945.ca/event/bazaar-and-luncheon-2/
END:VEVENT
END:VCALENDAR