BEGIN:VCALENDAR
VERSION:2.0
PRODID:-//K94.5 - ECPv4.6.26//NONSGML v1.0//EN
CALSCALE:GREGORIAN
METHOD:PUBLISH
X-WR-CALNAME:K94.5
X-ORIGINAL-URL:https://k945.ca
X-WR-CALDESC:Events for K94.5
BEGIN:VEVENT
DTSTART;TZID=America/Halifax:20170624T123000
DTEND;TZID=America/Halifax:20170624T170000
DTSTAMP:20260425T200709
CREATED:20170619T175203Z
LAST-MODIFIED:20170619T175203Z
UID:4755-1498307400-1498323600@k945.ca
SUMMARY:BBQ Fundraiser
DESCRIPTION:There will be a BBQ Fundraiser for the Team NB Boys Wrestling Team going to the Canada Games in Winnipeg on Saturday\, June 24th from 12:30-5pm at the Moncton Dart Club\, 28 Eaton St. There will be a BBQ with hot dogs\, hamburgers and snow cones as well as a retro gaming system free of charge but donations will be greatly appreciated \n
URL:https://k945.ca/event/bbq-fundraiser-2/
END:VEVENT
END:VCALENDAR