BEGIN:VCALENDAR
VERSION:2.0
PRODID:-//K94.5 - ECPv4.6.26//NONSGML v1.0//EN
CALSCALE:GREGORIAN
METHOD:PUBLISH
X-WR-CALNAME:K94.5
X-ORIGINAL-URL:https://k945.ca
X-WR-CALDESC:Events for K94.5
BEGIN:VEVENT
DTSTART;TZID=America/Halifax:20170622T150000
DTEND;TZID=America/Halifax:20170622T190000
DTSTAMP:20260420T235058
CREATED:20170620T124159Z
LAST-MODIFIED:20170620T124159Z
UID:4775-1498143600-1498158000@k945.ca
SUMMARY:BBQ Fundraiser for Ray of Hope Soup Kitchen
DESCRIPTION:There will be a BBQ Fundraiser for the Ray of Hope Soup Kitchen on Thursday\, June 22nd from 3-7pm at 1234 Main St. in front of the Tangerine building. Please stop by to support this worthy cause! $2 for hot dogs and $1 for drinks \n
URL:https://k945.ca/event/bbq-fundraiser-for-ray-of-hope-soup-kitchen/
END:VEVENT
END:VCALENDAR