BEGIN:VCALENDAR
VERSION:2.0
PRODID:-//K94.5 - ECPv4.6.26//NONSGML v1.0//EN
CALSCALE:GREGORIAN
METHOD:PUBLISH
X-WR-CALNAME:K94.5
X-ORIGINAL-URL:https://k945.ca
X-WR-CALDESC:Events for K94.5
BEGIN:VEVENT
DTSTART;TZID=America/Halifax:20161028T080000
DTEND;TZID=America/Halifax:20161028T170000
DTSTAMP:20260423T140724
CREATED:20161012T145201Z
LAST-MODIFIED:20161012T145201Z
UID:2060-1477641600-1477674000@k945.ca
SUMMARY:Big Hearts Small City
DESCRIPTION:Big Hearts Small City Inc. needs your votes Moncton! They want to start a furniture donation program for beds and help with deliveries. If they win\, funds will help purchase a large box truck! You can use up to 18 votes and voting is open from October 11-28. Please go to avicacommunityfund.org  for more information or to vote. \n  \n
URL:https://k945.ca/event/big-hearts-small-city/
END:VEVENT
END:VCALENDAR