BEGIN:VCALENDAR
VERSION:2.0
PRODID:-//K94.5 - ECPv4.6.26//NONSGML v1.0//EN
CALSCALE:GREGORIAN
METHOD:PUBLISH
X-WR-CALNAME:K94.5
X-ORIGINAL-URL:https://k945.ca
X-WR-CALDESC:Events for K94.5
BEGIN:VEVENT
DTSTART;TZID=America/Halifax:20190701T093000
DTEND;TZID=America/Halifax:20190701T170000
DTSTAMP:20260421T102013
CREATED:20190612T123026Z
LAST-MODIFIED:20190612T123026Z
UID:10739-1561973400-1562000400@k945.ca
SUMMARY:Canada Day @ Steeves House Museum
DESCRIPTION:Canada Day @ Steeves House Museum\, 40 Mill St. in Hillsborough: Free cake\, tours and refreshments. Monday\, July 1st from 9:30am-5:00pm \n
URL:https://k945.ca/event/canada-day-steeves-house-museum/
END:VEVENT
END:VCALENDAR