BEGIN:VCALENDAR
VERSION:2.0
PRODID:-//K94.5 - ECPv4.6.26//NONSGML v1.0//EN
CALSCALE:GREGORIAN
METHOD:PUBLISH
X-WR-CALNAME:K94.5
X-ORIGINAL-URL:https://k945.ca
X-WR-CALDESC:Events for K94.5
BEGIN:VEVENT
DTSTART;VALUE=DATE:20230603
DTEND;VALUE=DATE:20230604
DTSTAMP:20260423T100751
CREATED:20230529T140615Z
LAST-MODIFIED:20230529T141232Z
UID:19018-1685750400-1685836799@k945.ca
SUMMARY:Cassidy Lake Fishing Derby
DESCRIPTION:Calling all anglers! The Sussex Fish & Game Association are excited to be hosting their annual Cassidy Lake Fishing Derby this year! \nBring the family out to Cassidy Lake (just outside Sussex)\, enjoy a great breakfast & day out fishing on the water — try your hand at catching the largest pickerel and maybe you’ll even win a prize! \nBreakfast will be served onsite & prizes include a Kayak door prize supplied by Irving Woodlands! \nOnsite registration starts at 7:30am. Final horn/call at noon. \n\nAdults $20\nYouth $10\nFamily $40\n\nAll safety protocols as issued by the province and federal departments must be followed. Event registration is per angler. \nIf you’re interested in volunteering for the event\, email sussexfishandgame@outlook.com \nMore Info: Sussex Fish & Game Association \n
URL:https://k945.ca/event/cassidy-lake-fishing-derby-2023/
ATTACH;FMTTYPE=image/png:https://k945.ca/wp-content/uploads/sites/7/2023/05/Derby.png
END:VEVENT
END:VCALENDAR