BEGIN:VCALENDAR
VERSION:2.0
PRODID:-//K94.5 - ECPv4.6.26//NONSGML v1.0//EN
CALSCALE:GREGORIAN
METHOD:PUBLISH
X-WR-CALNAME:K94.5
X-ORIGINAL-URL:https://k945.ca
X-WR-CALDESC:Events for K94.5
BEGIN:VEVENT
DTSTART;TZID=America/Halifax:20180829T110000
DTEND;TZID=America/Halifax:20180829T130000
DTSTAMP:20260421T103240
CREATED:20180828T114550Z
LAST-MODIFIED:20180828T114550Z
UID:7861-1535540400-1535547600@k945.ca
SUMMARY:Convenience Store Day in support of Children's Wish
DESCRIPTION:All the Go! stores in the area will be participating in the 7th annual Convenience Store Day on Wednesday\, August 29th. Stop in and show your support of Children’s Wish. West main Esso will be having a BBQ from 11am-1pm with the deputy mayor attending between 11-11:30am. 50/50 tickets for sale and all donations welcome! \n
URL:https://k945.ca/event/convenience-store-day-in-support-of-childrens-wish/
END:VEVENT
END:VCALENDAR