BEGIN:VCALENDAR
VERSION:2.0
PRODID:-//K94.5 - ECPv4.6.26//NONSGML v1.0//EN
CALSCALE:GREGORIAN
METHOD:PUBLISH
X-WR-CALNAME:K94.5
X-ORIGINAL-URL:https://k945.ca
X-WR-CALDESC:Events for K94.5
BEGIN:VEVENT
DTSTART;TZID=America/Halifax:20191102T080000
DTEND;TZID=America/Halifax:20191102T153000
DTSTAMP:20260421T113544
CREATED:20191010T124525Z
LAST-MODIFIED:20191010T124525Z
UID:12223-1572681600-1572708600@k945.ca
SUMMARY:Craft Bazaar
DESCRIPTION:The Catholic Women’s League will be having a Craft Bazaar on Saturday\,November 2nd from 8am-3:30pm at 340 Dominion St. in St. Augustine’s Church basement with FREE admission. Over 20 vendors selling their wares\, bake sale and book sale. You can rest in their little Coffee House and enjoy fresh coffee and homemade muffins. At 11:30 they will be serving Fricot\, beverage and dessert for $10 per person. \n
URL:https://k945.ca/event/craft-bazaar/
END:VEVENT
END:VCALENDAR