BEGIN:VCALENDAR
VERSION:2.0
PRODID:-//K94.5 - ECPv4.6.26//NONSGML v1.0//EN
CALSCALE:GREGORIAN
METHOD:PUBLISH
X-WR-CALNAME:K94.5
X-ORIGINAL-URL:https://k945.ca
X-WR-CALDESC:Events for K94.5
BEGIN:VEVENT
DTSTART;TZID=America/Halifax:20251114T193000
DTEND;TZID=America/Halifax:20251114T193000
DTSTAMP:20260423T160548
CREATED:20251007T131012Z
LAST-MODIFIED:20251007T131044Z
UID:22155-1763148600-1763148600@k945.ca
SUMMARY:Derek Seguin Live at The Capitol
DESCRIPTION:\n\n\n\n\nEvent by Hubcap Promotions and Hubcap Comedy Festival de l’humour HubCap\n\n\n\n\n\n\n\n\n\n\n\n\nThéâtre Capitol Theatre\n\n\n\n\n\n\n\n\n\nComedy super star Derek Seguin is touring Canada with his hysterical new show to celebrate his 20th year as a professional joke teller. Derek’s two-time Juno nominated stand-up is always a pure reflection of his dysfunctional life\, but naturally seen through his “slightly” twisted looking glass. This show will feature more of his hilarious stories on the challenges of relationships with his girlfriend\, his three nearly grown-up children and every-day life in a mixed-up world that he finds peculiar at best. With barely a moment to catch your breath between laughs there is never a dull moment in Derek’s shows and for 20 years audiences have loved him for it\, but he loves you more!\nOne of CBC’s The Debaters’ fan-favorites; people are often surprised at the raw nature of Derek’s stand-up… and how short he is. If you haven’t seen him live before; come out and discover the many hilarious surprises that his in-person shows are renowned for. No subject is off limits and no rabbit hole too deep.\n*Please be advised this performance contains frequent use of strong language and is intended for mature audiences.\n\n\n
URL:https://k945.ca/event/derek-seguin-live-at-the-capitol/
LOCATION:Wildcats Home Game
ATTACH;FMTTYPE=image/jpeg:https://k945.ca/wp-content/uploads/sites/7/2025/10/525767923_780650590985736_1705085395978049473_n.jpg
END:VEVENT
END:VCALENDAR