BEGIN:VCALENDAR
VERSION:2.0
PRODID:-//K94.5 - ECPv4.6.26//NONSGML v1.0//EN
CALSCALE:GREGORIAN
METHOD:PUBLISH
X-WR-CALNAME:K94.5
X-ORIGINAL-URL:https://k945.ca
X-WR-CALDESC:Events for K94.5
BEGIN:VEVENT
DTSTART;TZID=America/Halifax:20191019T090000
DTEND;TZID=America/Halifax:20191019T120000
DTSTAMP:20260424T100930
CREATED:20191017T114650Z
LAST-MODIFIED:20191017T114650Z
UID:12300-1571475600-1571486400@k945.ca
SUMMARY:Dorchester Consolidated School Farmer's Market
DESCRIPTION:Dorchester Consolidated School will host a Farmer’s Market on Saturday\, October 19th from 9am-12pm at 18 Harrop Ave. in Dorchester. Table space still available\, call 506-379-3000 for more info \n
URL:https://k945.ca/event/dorchester-consolidated-school-farmers-market/
END:VEVENT
END:VCALENDAR