BEGIN:VCALENDAR
VERSION:2.0
PRODID:-//K94.5 - ECPv4.6.26//NONSGML v1.0//EN
CALSCALE:GREGORIAN
METHOD:PUBLISH
X-WR-CALNAME:K94.5
X-ORIGINAL-URL:https://k945.ca
X-WR-CALDESC:Events for K94.5
BEGIN:VEVENT
DTSTART;TZID=America/Halifax:20180601T113000
DTEND;TZID=America/Halifax:20180601T160000
DTSTAMP:20260422T001817
CREATED:20180528T122508Z
LAST-MODIFIED:20180528T122508Z
UID:6816-1527852600-1527868800@k945.ca
SUMMARY:Dunk Tank for PC Children's Charity
DESCRIPTION:There will be a fundraiser Dunk Tank in support of President’s Choice Children’s Charity on Friday\, June 1st from 11:30am-4pm at the front entrance of Superstore\, Trinity. There will also be a BBQ\, face painting and a fire truck for the kids. \n
URL:https://k945.ca/event/dunk-tank-for-pc-childrens-charity/
END:VEVENT
END:VCALENDAR