BEGIN:VCALENDAR
VERSION:2.0
PRODID:-//K94.5 - ECPv4.6.26//NONSGML v1.0//EN
CALSCALE:GREGORIAN
METHOD:PUBLISH
X-WR-CALNAME:K94.5
X-ORIGINAL-URL:https://k945.ca
X-WR-CALDESC:Events for K94.5
BEGIN:VEVENT
DTSTART;TZID=America/Halifax:20260328T110000
DTEND;TZID=America/Halifax:20260328T130000
DTSTAMP:20260423T205424
CREATED:20260303T121710Z
LAST-MODIFIED:20260303T122157Z
UID:22563-1774695600-1774702800@k945.ca
SUMMARY:Easter Pet Photos In Moncton!
DESCRIPTION:\n\n\n\n\nEvent by Shur-Gain Feeds’n Needs\n\n\n\n\n\n\n\n\n\n\n\n\n1916 Mountain Rd\, Moncton\, NB E1G 1A9\, Canada\n\n\n\n\n\n\n\n\n\n\n\n\nDuration: 2 hr\n\n\n\n\n\n\n\n\n\n\n\n\n\n\nHop on over for Easter Pet Photos with The Easter Bunny!\nMoncton Feeds’n Needs is celebrating spring with an adorable photo day you won’t want to miss!\nBring your furry friends in on Saturday\, March 28 for a sweet Easter‑themed photo session.\n Easter Pet Photos Moncton Feeds’n Needs March 28\, 2026 11am – 1pm $20 donation – CARMA Cat Rescue\nWe can’t wait to see your adorable pets strike a pose!\n\n\n
URL:https://k945.ca/event/easter-pet-photos-in-moncton/
ATTACH;FMTTYPE=image/jpeg:https://k945.ca/wp-content/uploads/sites/7/2026/03/641239924_1368679221967112_1928822626218688302_n.jpg
END:VEVENT
END:VCALENDAR