BEGIN:VCALENDAR
VERSION:2.0
PRODID:-//K94.5 - ECPv4.6.26//NONSGML v1.0//EN
CALSCALE:GREGORIAN
METHOD:PUBLISH
X-WR-CALNAME:K94.5
X-ORIGINAL-URL:https://k945.ca
X-WR-CALDESC:Events for K94.5
BEGIN:VEVENT
DTSTART;TZID=America/Halifax:20180728T120000
DTEND;TZID=America/Halifax:20180728T150000
DTSTAMP:20260424T113000
CREATED:20180604T123324Z
LAST-MODIFIED:20180604T123324Z
UID:6885-1532779200-1532790000@k945.ca
SUMMARY:Family Fun Day in Victoria Park
DESCRIPTION:There will be a Family Fun Day in Victoria Park courtesy of the Moncton Wesleyan Church on Saturday\, July 28th from 12-3pm. This FREE community event includes live music\, free BBQ\, games and fun for the whole family! \n
URL:https://k945.ca/event/family-fun-day-in-victoria-park/
END:VEVENT
END:VCALENDAR