BEGIN:VCALENDAR
VERSION:2.0
PRODID:-//K94.5 - ECPv4.6.26//NONSGML v1.0//EN
CALSCALE:GREGORIAN
METHOD:PUBLISH
X-WR-CALNAME:K94.5
X-ORIGINAL-URL:https://k945.ca
X-WR-CALDESC:Events for K94.5
BEGIN:VEVENT
DTSTART;TZID=America/Halifax:20180602T090000
DTEND;TZID=America/Halifax:20180602T140000
DTSTAMP:20260424T140101
CREATED:20180523T165953Z
LAST-MODIFIED:20180523T165953Z
UID:6770-1527930000-1527948000@k945.ca
SUMMARY:Fisher Cats 5K Fun Run
DESCRIPTION:The Fisher Cats 5K Fun Run will be happening on Saturday\, June 2nd at 9am at the Field of Dreams\, CN Sportsplex Field #3\, 55 Russ Howard drive. The race is open to ages 10+. \n
URL:https://k945.ca/event/fisher-cats-5k-fun-run/
END:VEVENT
END:VCALENDAR