BEGIN:VCALENDAR
VERSION:2.0
PRODID:-//K94.5 - ECPv4.6.26//NONSGML v1.0//EN
CALSCALE:GREGORIAN
METHOD:PUBLISH
X-WR-CALNAME:K94.5
X-ORIGINAL-URL:https://k945.ca
X-WR-CALDESC:Events for K94.5
BEGIN:VEVENT
DTSTART;TZID=America/Halifax:20170813T190000
DTEND;TZID=America/Halifax:20170813T210000
DTSTAMP:20260422T234049
CREATED:20170309T194304Z
LAST-MODIFIED:20170518T142226Z
UID:3516-1502650800-1502658000@k945.ca
SUMMARY:Fisher Cats Home Game vs. Charlottetown
DESCRIPTION:The Fisher Cats play against Charlottetown tonight @ 7:00pm at Kiwanis Park! \nFor more info\, check out: http://www.monctonfishercats.com or their Facebook and Twitter pages \nToday’s game day sponsor is Greco! \n \n  \n
URL:https://k945.ca/event/fishercats-home-game-16/
END:VEVENT
END:VCALENDAR