BEGIN:VCALENDAR
VERSION:2.0
PRODID:-//K94.5 - ECPv4.6.26//NONSGML v1.0//EN
CALSCALE:GREGORIAN
METHOD:PUBLISH
X-WR-CALNAME:K94.5
X-ORIGINAL-URL:https://k945.ca
X-WR-CALDESC:Events for K94.5
BEGIN:VEVENT
DTSTART;TZID=America/Halifax:20240518T103000
DTEND;TZID=America/Halifax:20240518T180000
DTSTAMP:20260425T032656
CREATED:20240507T135658Z
LAST-MODIFIED:20240507T135658Z
UID:20528-1716028200-1716055200@k945.ca
SUMMARY:Friends of the Royals Barbecue!
DESCRIPTION:The Friends of the Royals are hosting a barbecue at the NEW Kent Building Supplies in Riverview (1200 Findlay Boulevard) Saturday\, May 18 from 10:30am to 6pm! \nDrop by\, say hi\, grab a burger/hot dog and a drink — come support your community! \nThe cost is simply “pay what you can.” All proceeds will be used to support Friends of the Royals initiatives that support Riverview High School and the broader community. \nMore Info: Friends of the Royals Barbecue \n
URL:https://k945.ca/event/friends-of-the-royals-barbecue/
ATTACH;FMTTYPE=image/jpeg:https://k945.ca/wp-content/uploads/sites/7/2024/05/Bbq.jpg
END:VEVENT
END:VCALENDAR