BEGIN:VCALENDAR
VERSION:2.0
PRODID:-//K94.5 - ECPv4.6.26//NONSGML v1.0//EN
CALSCALE:GREGORIAN
METHOD:PUBLISH
X-WR-CALNAME:K94.5
X-ORIGINAL-URL:https://k945.ca
X-WR-CALDESC:Events for K94.5
BEGIN:VEVENT
DTSTART;TZID=America/Halifax:20161001T080000
DTEND;TZID=America/Halifax:20161001T130000
DTSTAMP:20260424T155424
CREATED:20160921T134408Z
LAST-MODIFIED:20160921T134408Z
UID:1415-1475308800-1475326800@k945.ca
SUMMARY:Fundraiser Yard Sale
DESCRIPTION:Oulton College’s Haiti Committee will be hosting a fundraising yard sale on October 1st from 8:00am-1:00pm. It will be located at the college on 4 Flanders Court (behind the YMCA). All funds raised will go directly towards the Oulton College Haiti project\, which is to help raise money to build a school in Haiti for less fortunate children. The college so far has raised over $20\,000 and are hoping to hit their $30\,000 goal before the end of this year! Any gently used items can be dropped off at the college. \n
URL:https://k945.ca/event/fundraiser-yard-sale/
END:VEVENT
END:VCALENDAR