BEGIN:VCALENDAR
VERSION:2.0
PRODID:-//K94.5 - ECPv4.6.26//NONSGML v1.0//EN
CALSCALE:GREGORIAN
METHOD:PUBLISH
X-WR-CALNAME:K94.5
X-ORIGINAL-URL:https://k945.ca
X-WR-CALDESC:Events for K94.5
BEGIN:VEVENT
DTSTART;TZID=America/Halifax:20180602T080000
DTEND;TZID=America/Halifax:20180602T120000
DTSTAMP:20260424T112741
CREATED:20180523T154655Z
LAST-MODIFIED:20180523T154655Z
UID:6764-1527926400-1527940800@k945.ca
SUMMARY:Garage Sale
DESCRIPTION:There will be a Garage Sale on Saturday\, June 2nd at the Central United Church\, 383 Ryan St. from 8am-noon. \n
URL:https://k945.ca/event/garage-sale/
END:VEVENT
END:VCALENDAR