BEGIN:VCALENDAR
VERSION:2.0
PRODID:-//K94.5 - ECPv4.6.26//NONSGML v1.0//EN
CALSCALE:GREGORIAN
METHOD:PUBLISH
X-WR-CALNAME:K94.5
X-ORIGINAL-URL:https://k945.ca
X-WR-CALDESC:Events for K94.5
BEGIN:VEVENT
DTSTART;TZID=America/Halifax:20170506T200000
DTEND;TZID=America/Halifax:20170506T200000
DTSTAMP:20260421T092221
CREATED:20170315T151308Z
LAST-MODIFIED:20170315T151308Z
UID:3579-1494100800-1494100800@k945.ca
SUMMARY:Girls Night Out for Crossroads for Women Inc.
DESCRIPTION:The Canadian Progress Club of Greater Moncton will be having their 9th annual “Girls night out for Crossroads for Women Inc.” on Saturday\, May 6th at 8pm. It takes place at the Cocoa Room in Riverview and will feature the band Nine Mile River\, shopping\, dancing\, pampering\, cocktails and much more! Tickets will be available starting Friday\, March 17th with general admission price of $35 per ticket and reserved seating price of $45. You can purchase tickets online through Eventbrite.ca or at Second Edition on 460 Mountain Rd. \nFor more info\, see the Girls night Out 2017 event page\, found within the Greater Moncton Women’s Progress Club Facebook. \n
URL:https://k945.ca/event/girls-night-out-for-crossroads-for-women-inc/
END:VEVENT
END:VCALENDAR