BEGIN:VCALENDAR
VERSION:2.0
PRODID:-//K94.5 - ECPv4.6.26//NONSGML v1.0//EN
CALSCALE:GREGORIAN
METHOD:PUBLISH
X-WR-CALNAME:K94.5
X-ORIGINAL-URL:https://k945.ca
X-WR-CALDESC:Events for K94.5
BEGIN:VEVENT
DTSTART;TZID=America/Halifax:20180602T130000
DTEND;TZID=America/Halifax:20180602T150000
DTSTAMP:20260424T192843
CREATED:20180523T154528Z
LAST-MODIFIED:20180523T154528Z
UID:6762-1527944400-1527951600@k945.ca
SUMMARY:Gluten Free Fair
DESCRIPTION:There will be a Gluten Free Fair on Saturday\, June 2nd at the Coverdale Recreation Center in Riverview. Admission is $3 (Cash Only). \n
URL:https://k945.ca/event/gluten-free-fair/
END:VEVENT
END:VCALENDAR