BEGIN:VCALENDAR
VERSION:2.0
PRODID:-//K94.5 - ECPv4.6.26//NONSGML v1.0//EN
CALSCALE:GREGORIAN
METHOD:PUBLISH
X-WR-CALNAME:K94.5
X-ORIGINAL-URL:https://k945.ca
X-WR-CALDESC:Events for K94.5
BEGIN:VEVENT
DTSTART;TZID=America/Halifax:20230422T100000
DTEND;TZID=America/Halifax:20230422T160000
DTSTAMP:20260421T014639
CREATED:20230303T011308Z
LAST-MODIFIED:20230303T011442Z
UID:18440-1682157600-1682179200@k945.ca
SUMMARY:Greater Moncton\, Riverview & Dieppe Book Fair
DESCRIPTION:The 1st Annual Greater Moncton\, Riverview & Dieppe Book Fair will take place at the Riverview Lions Community Center April 22nd from 10am – 4pm! \nOver 30 authors & their books will be onsite\, with the event being held at the Riverview Lions Community Centre. \nAll New Brunswick and Atlantic Authors welcome — Contact Allan Hudson at gmrdbookfair@gmail.com for more information. \n
URL:https://k945.ca/event/gmrd-book-fair-2023/
ATTACH;FMTTYPE=image/jpeg:https://k945.ca/wp-content/uploads/sites/7/2023/03/Books.jpg
END:VEVENT
END:VCALENDAR