BEGIN:VCALENDAR
VERSION:2.0
PRODID:-//K94.5 - ECPv4.6.26//NONSGML v1.0//EN
CALSCALE:GREGORIAN
METHOD:PUBLISH
X-WR-CALNAME:K94.5
X-ORIGINAL-URL:https://k945.ca
X-WR-CALDESC:Events for K94.5
BEGIN:VEVENT
DTSTART;TZID=America/Halifax:20260411T193000
DTEND;TZID=America/Halifax:20260411T193000
DTSTAMP:20260421T150219
CREATED:20260325T101949Z
LAST-MODIFIED:20260325T101949Z
UID:22635-1775935800-1775935800@k945.ca
SUMMARY:Goo Goo Dolls with Dashboard Confessional Live!
DESCRIPTION:The Goo Goo Dolls hit the Avenir April 11 with Dashboard Confessional. \nGet your tickets here \n  \n
URL:https://k945.ca/event/goo-goo-dolls-with-dashboard-confessional-live/
ATTACH;FMTTYPE=image/jpeg:https://k945.ca/wp-content/uploads/sites/7/2026/03/GGD-1440x735-d47423ed77.jpg
END:VEVENT
END:VCALENDAR