BEGIN:VCALENDAR
VERSION:2.0
PRODID:-//K94.5 - ECPv4.6.26//NONSGML v1.0//EN
CALSCALE:GREGORIAN
METHOD:PUBLISH
X-WR-CALNAME:K94.5
X-ORIGINAL-URL:https://k945.ca
X-WR-CALDESC:Events for K94.5
BEGIN:VEVENT
DTSTART;TZID=America/Halifax:20230401T200000
DTEND;TZID=America/Halifax:20230401T230000
DTSTAMP:20260424T102623
CREATED:20230117T191005Z
LAST-MODIFIED:20230310T150005Z
UID:18352-1680379200-1680390000@k945.ca
SUMMARY:Heart & Stroke Foundation of New Brunswick Concert Series Featuring Marianas Trench!
DESCRIPTION:Join the Heart and Stroke Foundation of New Brunswick for an incredible evening of comedy and music at the Molson Canadian Centre! \nYou are invited to arrive early as the doors open at 7pm. A local musician will provide entertainment while you have your photo taken with friends on the red carpet and place bids on silent auction items! Jean Coutu\, the event’s presenting sponsor\, will be there with health information. \nWhen choosing your event outfit\, it’s important to know that some guests will be dressed casually while others will use this as an opportunity to get all dressed up in red and black. Dress in a style that’s comfortable for you! \nThe show begins at 8pm. The evening’s Master of Ceremonies will be James Mullinger. One of the UK’s top comedians\, James moved to New Brunswick in 2014 — Since then\, he’s taken the nation by storm. With sold-out shows across the country\, appearances on national television\, radio and film. He will kick the evening off with some laughter prior to Canadian rock/pop band MARIANAS TRENCH hits the stage! \nMore info: Casino New Brunswick \n*ADDITIONAL BLEACHER TICKETS HAVE RELEASED! TICKET INFO: Marianas Trench \nTABLE TICKETS AVAILABLE — Contact Heart & Stroke at 506-634-1620 or email ahearn@hsf.nb.ca! \n
URL:https://k945.ca/event/heart-stroke-foundation-of-new-brunswick-concert-series-featuring-marianas-trench/
LOCATION:Casino New Brunswick\, 21 Casino Dr\, Moncton\, NB\, E1G 0R7
ATTACH;FMTTYPE=image/png:https://k945.ca/wp-content/uploads/sites/7/2023/01/Untitled-design-15.png
END:VEVENT
END:VCALENDAR