BEGIN:VCALENDAR
VERSION:2.0
PRODID:-//K94.5 - ECPv4.6.26//NONSGML v1.0//EN
CALSCALE:GREGORIAN
METHOD:PUBLISH
X-WR-CALNAME:K94.5
X-ORIGINAL-URL:https://k945.ca
X-WR-CALDESC:Events for K94.5
BEGIN:VEVENT
DTSTART;TZID=America/Halifax:20190526T120000
DTEND;TZID=America/Halifax:20190526T160000
DTSTAMP:20260421T183633
CREATED:20190521T122449Z
LAST-MODIFIED:20190521T122449Z
UID:10484-1558872000-1558886400@k945.ca
SUMMARY:Hike for Hospice
DESCRIPTION:Get active\, make new friends\, and have a ton of fun with the #Hike4Hospice! \nRegistration at noon\, warm-up & hike at 1pm\, family fun 2-3pm!\nPrizes\, silent auction\, tasty treats\, inflatable bouncers\, geocaching\, face-painting and more! \nRegister by calling Hospice Greater Moncton\, or email events@hospicegm.ca \n
URL:https://k945.ca/event/hike-for-hospice-2/
LOCATION:Centennial Park\, 811 St. George Blvd\, Moncton\, New Brunswick\, E1E 4E7
CATEGORIES:Charity Events,Community,Family Events,For Kids
ATTACH;FMTTYPE=image/png:https://k945.ca/wp-content/uploads/sites/7/2019/05/hike-4-hospice.png
ORGANIZER;CN="Hospice%20Greater%20Moncton":MAILTO:info@hospicegm.ca
END:VEVENT
END:VCALENDAR