BEGIN:VCALENDAR
VERSION:2.0
PRODID:-//K94.5 - ECPv4.6.26//NONSGML v1.0//EN
CALSCALE:GREGORIAN
METHOD:PUBLISH
X-WR-CALNAME:K94.5
X-ORIGINAL-URL:https://k945.ca
X-WR-CALDESC:Events for K94.5
BEGIN:VEVENT
DTSTART;TZID=America/Halifax:20191102T090000
DTEND;TZID=America/Halifax:20191102T140000
DTSTAMP:20260421T114238
CREATED:20191029T140315Z
LAST-MODIFIED:20191029T140315Z
UID:12415-1572685200-1572703200@k945.ca
SUMMARY:Hillcrest Holiday Bazaar
DESCRIPTION:On Saturday\, November 2nd Hillcrest School\, 60 Parlee Dr. will be hosting its 5th annual Holiday Bazaar from 9am-12pm. Cost is $2 at the door. Everyone is welcome! \n
URL:https://k945.ca/event/hillcrest-holiday-bazaar/
END:VEVENT
END:VCALENDAR