BEGIN:VCALENDAR
VERSION:2.0
PRODID:-//K94.5 - ECPv4.6.26//NONSGML v1.0//EN
CALSCALE:GREGORIAN
METHOD:PUBLISH
X-WR-CALNAME:K94.5
X-ORIGINAL-URL:https://k945.ca
X-WR-CALDESC:Events for K94.5
BEGIN:VEVENT
DTSTART;TZID=America/Halifax:20260417T190000
DTEND;TZID=America/Halifax:20260417T190000
DTSTAMP:20260423T095921
CREATED:20260325T104541Z
LAST-MODIFIED:20260325T104541Z
UID:22649-1776452400-1776452400@k945.ca
SUMMARY:In The Crease with Carey Price
DESCRIPTION:\n\n\n\n\nEvent by Casino New Brunswick/Nouveau-Brunswick\n\n\n\n\n\n\n\n\n\n\n\n\nCasino New Brunswick/Nouveau-Brunswick\n\n\n\n\n\n\n\n\nFriday\, April 17\, 2026Doors: 6pm | Show: 7pm\nHe’s back! After an unforgettable first appearance\, Carey Price returns to New Brunswick for another incredible evening of stories\, inspiration\, and hockey greatness in In the Crease with Carey Price: The Return of a Hockey Legend.\n\n\n
URL:https://k945.ca/event/in-the-crease-with-carey-price/
ATTACH;FMTTYPE=image/jpeg:https://k945.ca/wp-content/uploads/sites/7/2026/03/645577994_1344409841049113_2336907033505121574_n.jpg
END:VEVENT
END:VCALENDAR