BEGIN:VCALENDAR
VERSION:2.0
PRODID:-//K94.5 - ECPv4.6.26//NONSGML v1.0//EN
CALSCALE:GREGORIAN
METHOD:PUBLISH
X-WR-CALNAME:K94.5
X-ORIGINAL-URL:https://k945.ca
X-WR-CALDESC:Events for K94.5
BEGIN:VEVENT
DTSTART;TZID=America/Halifax:20180602T080000
DTEND;TZID=America/Halifax:20180602T130000
DTSTAMP:20260424T124134
CREATED:20180523T155242Z
LAST-MODIFIED:20180523T155242Z
UID:6766-1527926400-1527944400@k945.ca
SUMMARY:Indoor Yard Sale
DESCRIPTION:There will an Indoor Yard Sale on Saturday\, June 2nd from 8am-1pm at 113 norwood Ave. (side door-St. Vincent de Paul Society). Proceeds will help the needy in the community \n
URL:https://k945.ca/event/indoor-yard-sale/
END:VEVENT
END:VCALENDAR