BEGIN:VCALENDAR
VERSION:2.0
PRODID:-//K94.5 - ECPv4.6.26//NONSGML v1.0//EN
CALSCALE:GREGORIAN
METHOD:PUBLISH
X-WR-CALNAME:K94.5
X-ORIGINAL-URL:https://k945.ca
X-WR-CALDESC:Events for K94.5
BEGIN:VEVENT
DTSTART;TZID=America/Halifax:20260421T190000
DTEND;TZID=America/Halifax:20260421T190000
DTSTAMP:20260421T170103
CREATED:20260325T101434Z
LAST-MODIFIED:20260325T101434Z
UID:22631-1776798000-1776798000@k945.ca
SUMMARY:Jon Dore at Cheers
DESCRIPTION:\n\n\n\n\nEvent by Hubcap Promotions\, Hubcap Comedy Festival de l’humour HubCap and Cheers Beverage Room\n\n\n\n\n\n\n\n\n\n\n\nCheers Beverage Room\n\n\n\n\n\n\n\n\n\n\n\n\n\n\nHubCap Promotions is excited to present the hilarious Jon Dore on April 21st at Cheers in Moncton. Jon is a Juno Award winner for best comedy album and all around “decent person” says his wife Christina\, and is coming to Moncton for one night only. Using skills he crafted hosting the Jon Dore Television show\, Jon is back in Moncton for a night of side-splitting comedy\, that is not to be missed.*Tickets available only at Cheers Beverage Room\, 63 Brandon St.\, Moncton\, NB or by calling 506-857-0998 $30 taxes and fees included\n\n\n
URL:https://k945.ca/event/jon-dore-at-cheers/
ATTACH;FMTTYPE=image/jpeg:https://k945.ca/wp-content/uploads/sites/7/2026/03/641493569_945689687815158_4915221729216936128_n.jpg
END:VEVENT
END:VCALENDAR