BEGIN:VCALENDAR
VERSION:2.0
PRODID:-//K94.5 - ECPv4.6.26//NONSGML v1.0//EN
CALSCALE:GREGORIAN
METHOD:PUBLISH
X-WR-CALNAME:K94.5
X-ORIGINAL-URL:https://k945.ca
X-WR-CALDESC:Events for K94.5
BEGIN:VEVENT
DTSTART;TZID=America/Halifax:20191018T190000
DTEND;TZID=America/Halifax:20191018T210000
DTSTAMP:20260424T100757
CREATED:20190917T150800Z
LAST-MODIFIED:20190917T150800Z
UID:11910-1571425200-1571432400@k945.ca
SUMMARY:Keillor House Museum Haunted House
DESCRIPTION:The Keillor House Museum (4974 Main St. in Dorchester) presents 4 Spooktacular Nights of Fright! \nFriday\, October 18th from 7-9pm \nSaturday\, October 19th 7-9pm \nFriday\, October 25th 7-9pm \nSaturday\, October 26th 7-9pm \nTour the historic Keillor House Museum during this spooky adventure guaranteed to provide a few laughs and always a few screams. Cost is $12 for Adults\, $10 for Students and $40 Family rate. Parental discretion is advised. Don’t miss the best haunted house around! \n
URL:https://k945.ca/event/keillor-house-museum-haunted-house/
END:VEVENT
END:VCALENDAR