BEGIN:VCALENDAR
VERSION:2.0
PRODID:-//K94.5 - ECPv4.6.26//NONSGML v1.0//EN
CALSCALE:GREGORIAN
METHOD:PUBLISH
X-WR-CALNAME:K94.5
X-ORIGINAL-URL:https://k945.ca
X-WR-CALDESC:Events for K94.5
BEGIN:VEVENT
DTSTART;TZID=America/Halifax:20250621T100000
DTEND;TZID=America/Halifax:20250622T190000
DTSTAMP:20260421T140446
CREATED:20250401T085825Z
LAST-MODIFIED:20250401T085825Z
UID:21439-1750500000-1750618800@k945.ca
SUMMARY:KITE FESTIVAL 2025
DESCRIPTION:CELEBRATE & ENJOY KITE FESTIVAL WITH FRIENDS\, FAMILY & LOVED ONES.\nFREE ENTRY / FREE PARKINGFOOD STALLS / DJ MUSIC / YARD GAMES / GIANT KITES \nVENUE: CENTENNIAL PARK\, MONCTON NBDATE: 21 & 22 JUNE 2025TIME: 10:00 AM TO 07:00PM\n\nLETS COLOR THE SKY TOGETHER \n
URL:https://k945.ca/event/kite-festival-2025/
CATEGORIES:Community,Community Events,Family Events,For Kids
ATTACH;FMTTYPE=image/jpeg:https://k945.ca/wp-content/uploads/sites/7/2025/04/Kite-Fest-2025.jpg
END:VEVENT
END:VCALENDAR