BEGIN:VCALENDAR
VERSION:2.0
PRODID:-//K94.5 - ECPv4.6.26//NONSGML v1.0//EN
CALSCALE:GREGORIAN
METHOD:PUBLISH
X-WR-CALNAME:K94.5
X-ORIGINAL-URL:https://k945.ca
X-WR-CALDESC:Events for K94.5
BEGIN:VEVENT
DTSTART;TZID=America/Halifax:20260507T183000
DTEND;TZID=America/Halifax:20260507T203000
DTSTAMP:20260421T151429
CREATED:20260325T111941Z
LAST-MODIFIED:20260325T111941Z
UID:22667-1778178600-1778185800@k945.ca
SUMMARY:Mandala Planter Workshop with Zendala!
DESCRIPTION:\n\n\n\n\nEvent by Zendala Canada\n\n\n\n\n\n\n\n\n\n\n\n\nSt. Louis Bar & Grill\n\n\n\n\n\n\n\n\n\nJoin us for a Mandala Planter Workshop with Zendala!\nCreate your own beautifully painted mandala flower pot using relaxing dot art techniques. This workshop is beginner-friendly and all supplies are included.\nDate: May 7\, 2026Time: 6:30 pm – 8:30 pmLocation: Moncton\nCost: $40 + tax per person\nCome enjoy a creative and relaxing experience and leave with a hand-painted planter perfect for your home or garden.\nSpots are limited – reserve your seat today!\n\nDetails here\n\n
URL:https://k945.ca/event/mandala-planter-workshop-with-zendala/
ATTACH;FMTTYPE=image/jpeg:https://k945.ca/wp-content/uploads/sites/7/2026/03/651725840_122120650503156877_9008526552910958390_n.jpg
END:VEVENT
END:VCALENDAR