BEGIN:VCALENDAR
VERSION:2.0
PRODID:-//K94.5 - ECPv4.6.26//NONSGML v1.0//EN
CALSCALE:GREGORIAN
METHOD:PUBLISH
X-WR-CALNAME:K94.5
X-ORIGINAL-URL:https://k945.ca
X-WR-CALDESC:Events for K94.5
BEGIN:VEVENT
DTSTART;VALUE=DATE:20230510
DTEND;VALUE=DATE:20230511
DTSTAMP:20260420T064550
CREATED:20230426T151012Z
LAST-MODIFIED:20230427T121325Z
UID:18546-1683676800-1683763199@k945.ca
SUMMARY:McHappy Day
DESCRIPTION:One of the tastiest days of the year returns Wednesday\, May 10th in support of Ronald McDonald House Charities Atlantic! \nA portion of proceeds from ALL MENU ITEMS sold\, all day\, at McDonald’s restaurants will help support RMHC families from across the Maritimes! \nYou’re able to make a donation in-restaurant or at the drive-thru\, online — purchase McHappy Day socks to support RMHC families and more! \n \nMore ways to support: Ronald McDonald House Charities Atlantic \n
URL:https://k945.ca/event/mchappy-day-2/
ATTACH;FMTTYPE=image/jpeg:https://k945.ca/wp-content/uploads/sites/7/2023/04/mchappy-day-2023.jpg
END:VEVENT
END:VCALENDAR