BEGIN:VCALENDAR
VERSION:2.0
PRODID:-//K94.5 - ECPv4.6.26//NONSGML v1.0//EN
CALSCALE:GREGORIAN
METHOD:PUBLISH
X-WR-CALNAME:K94.5
X-ORIGINAL-URL:https://k945.ca
X-WR-CALDESC:Events for K94.5
BEGIN:VEVENT
DTSTART;TZID=America/Halifax:20260410T100000
DTEND;TZID=America/Halifax:20260412T170000
DTSTAMP:20260421T150106
CREATED:20260325T101236Z
LAST-MODIFIED:20260325T101236Z
UID:22629-1775815200-1776013200@k945.ca
SUMMARY:Moncton Boat & Sportsmen Show
DESCRIPTION:\n\n\n\n\nEvent by Moncton Boat & Sportsmen Show\n\n\n\n\n\n\n\n\n\n\n\n\nMoncton Coliseum\, 377 Killam Drive \, Moncton\, NB\, Canada\, New Brunswick\n\n\n\n\n\n\n\n\n\n\n\n\n\n\n\n\n\n\n\n\nJoin us April 10-12\, 2026\, at the Moncton Coliseum for the 20th anniversary of the Moncton Boat & Sportsmen’s Show\, a family-favorite boating and outdoor event! Explore top brands for gear\, boats\, docks\, fishing accessories\, paddle sports and more!\nGet a discount when you purchase tickets through the Facebook Event.\n&HOURSFriday\, April 10\, 2026 – 10am-8pmSaturday\, April 11\, 2026 – 10am-8pmSunday\, April 12\, 2026 – 10am-4pm\nTICKETSAdult (18+) Online – $13.00Adult (18+) Box Office – $15.00Senior (65+) – $12.00Junior (12-17) – $12.00Family Pass – $37.00Children (Ages 11 & under): FREE with a paying adult\nVisit our website for more information: https://www.monctonbss.ca/attendee-info/show-info\n\n\n
URL:https://k945.ca/event/moncton-boat-sportsmen-show/
ATTACH;FMTTYPE=image/jpeg:https://k945.ca/wp-content/uploads/sites/7/2026/03/574866907_1395890549208518_6572583362542038929_n.jpg
END:VEVENT
END:VCALENDAR