BEGIN:VCALENDAR
VERSION:2.0
PRODID:-//K94.5 - ECPv4.6.26//NONSGML v1.0//EN
CALSCALE:GREGORIAN
METHOD:PUBLISH
X-WR-CALNAME:K94.5
X-ORIGINAL-URL:https://k945.ca
X-WR-CALDESC:Events for K94.5
BEGIN:VEVENT
DTSTART;TZID=America/Halifax:20190526T140000
DTEND;TZID=America/Halifax:20190526T160000
DTSTAMP:20260421T200204
CREATED:20190510T140037Z
LAST-MODIFIED:20190510T182644Z
UID:10372-1558879200-1558886400@k945.ca
SUMMARY:Moncton Fisher Cats
DESCRIPTION:Fisher Cats Vs. Saint John today @ 2:00pm at Kiwanis Park \nSee their Facebook page and Twitter for more info! \n \n
URL:https://k945.ca/event/moncton-fisher-cats-18/
END:VEVENT
END:VCALENDAR