BEGIN:VCALENDAR
VERSION:2.0
PRODID:-//K94.5 - ECPv4.6.26//NONSGML v1.0//EN
CALSCALE:GREGORIAN
METHOD:PUBLISH
X-WR-CALNAME:K94.5
X-ORIGINAL-URL:https://k945.ca
X-WR-CALDESC:Events for K94.5
BEGIN:VEVENT
DTSTART;TZID=America/Halifax:20190707T190000
DTEND;TZID=America/Halifax:20190707T210000
DTSTAMP:20260420T105150
CREATED:20190510T141829Z
LAST-MODIFIED:20190510T181952Z
UID:10389-1562526000-1562533200@k945.ca
SUMMARY:Moncton Fisher Cats
DESCRIPTION:Fisher Cats Vs. Saint John tonight @ 7:00pm at Kiwanis Park \nSee their Facebook page and Twitter for more info! \n \n
URL:https://k945.ca/event/moncton-fisher-cats-26/
END:VEVENT
END:VCALENDAR