BEGIN:VCALENDAR
VERSION:2.0
PRODID:-//K94.5 - ECPv4.6.26//NONSGML v1.0//EN
CALSCALE:GREGORIAN
METHOD:PUBLISH
X-WR-CALNAME:K94.5
X-ORIGINAL-URL:https://k945.ca
X-WR-CALDESC:Events for K94.5
BEGIN:VEVENT
DTSTART;VALUE=DATE:20190830
DTEND;VALUE=DATE:20190902
DTSTAMP:20260421T170446
CREATED:20190810T135019Z
LAST-MODIFIED:20190813T142325Z
UID:11491-1567123200-1567382399@k945.ca
SUMMARY:Moncton Geekfest
DESCRIPTION:Come out for Moncton Geekfest\, the area’s premier comic and gaming event held in the Crowne Plaza with 3 fun-filled days of excitement! \nEnjoy tons of activities for the whole family including: \n\nSuper Smash Circuit gaming tournament\nDungeons & Dragons\nGuests & Panels\nVideo Dances\nGames of all kinds\nAND much much more…\n\nThe full schedule and tickets available at geekfestmoncton.ca \nProudly presented by Today’s Best Music K945! \n
URL:https://k945.ca/event/moncton-geekfest/
LOCATION:Crowne Plaza Moncton\, 1005 Main Street\, Moncton\, E1C 1G9
CATEGORIES:Charity Events,Community,Entertainment,Family Events,For Kids
ATTACH;FMTTYPE=image/jpeg:https://k945.ca/wp-content/uploads/sites/7/2019/08/Geekfest-2019.jpg
END:VEVENT
END:VCALENDAR