BEGIN:VCALENDAR
VERSION:2.0
PRODID:-//K94.5 - ECPv4.6.26//NONSGML v1.0//EN
CALSCALE:GREGORIAN
METHOD:PUBLISH
X-WR-CALNAME:K94.5
X-ORIGINAL-URL:https://k945.ca
X-WR-CALDESC:Events for K94.5
BEGIN:VEVENT
DTSTART;VALUE=DATE:20160812
DTEND;VALUE=DATE:20160816
DTSTAMP:20260423T112329
CREATED:20160812T190623Z
LAST-MODIFIED:20160812T191030Z
UID:215-1470960000-1471305599@k945.ca
SUMMARY:Moncton Headstart School Supplies
DESCRIPTION:Where: Drop off- Jean Coutu\, Giant Tiger or Headstart \nWhen: Until August 25th\, Mondays\, Fridays\, Saturdays\, 2016-08-10 to 2016-08-25 \nMoncton Headstart are in desperate need of school supplies for families in need. This program runs until August 25th. Donations can be dropped off at all Jean Coutu’s in the greater Moncton area\, Giant Tiger on Mapleton Rd.\, and of course at Headstart\, 1111 Mountain Rd.. Families in need can call 858-8252 to register for an appointment. \n
URL:https://k945.ca/event/moncton-headstart-school-supplies/2016-08-12/
CATEGORIES:Community
END:VEVENT
END:VCALENDAR