BEGIN:VCALENDAR
VERSION:2.0
PRODID:-//K94.5 - ECPv4.6.26//NONSGML v1.0//EN
CALSCALE:GREGORIAN
METHOD:PUBLISH
X-WR-CALNAME:K94.5
X-ORIGINAL-URL:https://k945.ca
X-WR-CALDESC:Events for K94.5
BEGIN:VEVENT
DTSTART;TZID=America/Halifax:20180815T080000
DTEND;TZID=America/Halifax:20180830T170000
DTSTAMP:20260425T184535
CREATED:20180815T142443Z
LAST-MODIFIED:20180815T142443Z
UID:7728-1534320000-1535648400@k945.ca
SUMMARY:Moncton Headstart School Supply Drive
DESCRIPTION:The Moncton Headstart School Supply Drive will be happening from now until August 30th. They are in need of black dry erase markers\, USB sticks and binders. To register\, call 858-8252. You can drop off items at all Jean Coutu locations or at Headstart\, 1111 Mountain Rd. School supplies or cash donations are accepted. \n
URL:https://k945.ca/event/moncton-headstart-school-supply-drive/
END:VEVENT
END:VCALENDAR