BEGIN:VCALENDAR
VERSION:2.0
PRODID:-//K94.5 - ECPv4.6.26//NONSGML v1.0//EN
CALSCALE:GREGORIAN
METHOD:PUBLISH
X-WR-CALNAME:K94.5
X-ORIGINAL-URL:https://k945.ca
X-WR-CALDESC:Events for K94.5
BEGIN:VEVENT
DTSTART;TZID=America/Halifax:20170401T100000
DTEND;TZID=America/Halifax:20170401T180000
DTSTAMP:20260419T224726
CREATED:20170110T141818Z
LAST-MODIFIED:20170110T141818Z
UID:2851-1491040800-1491069600@k945.ca
SUMMARY:Moncton High Spring Fundraiser
DESCRIPTION:The Moncton High School Friends of the Knights are holding their spring fundraiser on Saturday\, April 1st. The event includes a silent and live auction\, dance and food provided by Gaston’s Catering. Tickets are available online\, through the school website or directly at the office. \n
URL:https://k945.ca/event/moncton-high-spring-fundraiser/
END:VEVENT
END:VCALENDAR