BEGIN:VCALENDAR
VERSION:2.0
PRODID:-//K94.5 - ECPv4.6.26//NONSGML v1.0//EN
CALSCALE:GREGORIAN
METHOD:PUBLISH
X-WR-CALNAME:K94.5
X-ORIGINAL-URL:https://k945.ca
X-WR-CALDESC:Events for K94.5
BEGIN:VEVENT
DTSTART;TZID=America/Halifax:20170327T190000
DTEND;TZID=America/Halifax:20170327T210000
DTSTAMP:20260420T031321
CREATED:20170210T180627Z
LAST-MODIFIED:20170210T180627Z
UID:3132-1490641200-1490648400@k945.ca
SUMMARY:Moncton Miracles Home Game
DESCRIPTION:The Moncton Miracles take on the Windsor Express tonight @ 7pm at the Moncton Coliseum! \nFor more information\, check out http://www.miraclesbasketball.ca or visit their Facebook and Twitter pages! \n \n
URL:https://k945.ca/event/moncton-miracles-home-game-9/
END:VEVENT
END:VCALENDAR