BEGIN:VCALENDAR
VERSION:2.0
PRODID:-//K94.5 - ECPv4.6.26//NONSGML v1.0//EN
CALSCALE:GREGORIAN
METHOD:PUBLISH
X-WR-CALNAME:K94.5
X-ORIGINAL-URL:https://k945.ca
X-WR-CALDESC:Events for K94.5
BEGIN:VEVENT
DTSTART;VALUE=DATE:20230504
DTEND;VALUE=DATE:20230515
DTSTAMP:20260424T100639
CREATED:20230411T104143Z
LAST-MODIFIED:20230503T142116Z
UID:18520-1683158400-1684108799@k945.ca
SUMMARY:Moncton Taco Week
DESCRIPTION:Moncton Taco Week officially returns May 4 – 14th!! \nFeaturing unique taco creations from Moncton’s top chefs\, Moncton Taco Week is a celebration of the international level culinary expertise in Moncton through the joy and excitement of tacos. \nIt’s a reason for the rest of Atlantic Canada to pay us a delicious visit & go home with something to taco ’bout! \n \n  \nMore Info: Moncton Taco Week \n
URL:https://k945.ca/event/moncton-taco-week-2023/
ATTACH;FMTTYPE=image/png:https://k945.ca/wp-content/uploads/sites/7/2023/04/TacoWeekCover.png
END:VEVENT
END:VCALENDAR